BEGIN:VCALENDAR
VERSION:2.0
PRODID:-//wp-events-plugin.com//7.2.3.1//EN
TZID:Europe/Berlin
X-WR-TIMEZONE:Europe/Berlin
BEGIN:VEVENT
UID:639@backen-profis.de
DTSTART;TZID=Europe/Berlin:20260619T180000
DTEND;TZID=Europe/Berlin:20260619T213000
DTSTAMP:20260316T170328Z
URL:https://backen-profis.de/events/besondere-gebaecke-sternbrot-party-ste
 rne-dinkel-baguette-kraeuterbaguette/
SUMMARY:besondere Gebäcke: Sternbrot\, Party-Sterne\, Dinkel-Baguette\, Kr
 äuterbaguette
DESCRIPTION:\nSternbrot / Party-Sterne\n\nSternenzeit im Juni!\nalso rechtz
 eitig ein passendes Brot generieren! 😊\nWir machen ein knuspriges helle
 s Weizen- oder Dinkelbrot in spezieller Sternform\, ideal für Feste und P
 artys.\nAngesetzt mit einem Weizensauerteig und langer Teigführung bildet
  sich ein besonderes Aroma !\nEine Variante sind Party-Sterne in kleinerer
  Form\, die gut aus der Hand gegessen werden können.\n\nDas Sternbrot ist
  natürlich auch im Sommer ein Genuss !\n&nbsp\;\n\n&nbsp\;\nDinkel-Baguet
 te / Kräuter-Baguette:\n&nbsp\;\nBaguette ist das Nr.1 - Brot in Frankrei
 ch und auch bei uns sehr beliebt.\nAufgrund einer langen Teigführung und 
 Teigruhephase entwickelt sich ein besonderes Aroma.\nMit einer sehr knuspr
 igen Kruste und lockeren elastischen Krume hat es einen typischen Charakte
 r.\nAls Variante machen wir auch Baguett-Brötchen.\n&nbsp\;\n\n[caption i
 d="attachment_370" align="alignnone" width="300"] Baguette[/caption]\n\n&n
 bsp\;\n\n&nbsp\;\n\n&nbsp\;
CATEGORIES:saisonale Gebäcke
LOCATION:Backstube in Aichhalden-Rötenberg\, Zubermoosstr. 31\, 78733 Aich
 halden-Rötenberg\, 78733\, Deutschland
GEO:48.3003717;8.423787100000027
X-APPLE-STRUCTURED-LOCATION;VALUE=URI;X-ADDRESS=Zubermoosstr. 31\, 78733 Ai
 chhalden-Rötenberg\, 78733\, Deutschland;X-APPLE-RADIUS=100;X-TITLE=Backs
 tube in Aichhalden-Rötenberg:geo:48.3003717,8.423787100000027
END:VEVENT
BEGIN:VTIMEZONE
TZID:Europe/Berlin
X-LIC-LOCATION:Europe/Berlin
BEGIN:DAYLIGHT
DTSTART:20260329T030000
TZOFFSETFROM:+0100
TZOFFSETTO:+0200
TZNAME:CEST
END:DAYLIGHT
END:VTIMEZONE
END:VCALENDAR