BEGIN:VCALENDAR
VERSION:2.0
PRODID:-//wp-events-plugin.com//7.2.3.1//EN
TZID:Europe/Berlin
X-WR-TIMEZONE:Europe/Berlin
BEGIN:VEVENT
UID:634@backen-profis.de
DTSTART;TZID=Europe/Berlin:20260626T180000
DTEND;TZID=Europe/Berlin:20260626T210000
DTSTAMP:20260315T182810Z
URL:https://backen-profis.de/events/holzofen-gebaecke-100-dinkelbrot-genet
 ztes-dinkelbrot-bauernlaible/
SUMMARY:Holzofen-Gebäcke: 100 % Dinkelbrot\, genetztes Dinkelbrot\, Bauern
 laible
DESCRIPTION:In der Holzofen-Saison biete ich ideale Brote an:\n&nbsp\;\n\n&
 nbsp\;\n"genetztes Dinkelbrot" im Holzofen gebacken\n&nbsp\;\nDas Dinkelb
 rot mit Roggenmehlanteil wird nach einer langen Teigruhe\, bei der sich vi
 el Aroma bildet\, einfach nur eingeschlagen und im Holzofen gebacken.\nEs 
 eignet sich aber auch sehr gut für den Haushaltsherd.\nMit ein paar Trick
 s ist es für jeden einfach herzustellen.\n&nbsp\;\n\n[caption id="attachm
 ent_447" align="alignnone" width="300"] "genetztes" Dinkelbrot[/caption]\n
 \n\n&nbsp\;\n"Aromatica" das knusprige Dinkelbrot\n&nbsp\;\nein knuspriges
 \, helles\, rustikales Dinkelbrot aus 100 % Dinkelmehl.\nEs kann komplett
  auf Weizen- und Roggenmehl verzichtet werden !\nAufgrund der langen Teigf
 ührung bildet sich ein besonderes Aroma.\n\n[caption id="attachment_610" 
 align="alignnone" width="300"] Dinkelbrot "Aromatica"[/caption]\n\n&nbsp\;
 \n\n&nbsp\;\nBauernlaible mit Sauerteig\n&nbsp\;\nDas Weizen-Roggen-Mischb
 rot mit Natursauerteig wird in mittelgroßen Portionen aufgearbeitet und d
 ann im Steinofen gebacken.\nDie weit aufgerissene Oberfläche sorgt für e
 in rustikalen Geschmack\nEs eignet sich aber auch sehr gut für den Hausha
 ltsherd.\n&nbsp\;\n\n\n\n\n\n\nBauernbrot\n\n\n\n\n
CATEGORIES:Themen Woche
LOCATION:Backstube in Aichhalden-Rötenberg\, Zubermoosstr. 31\, 78733 Aich
 halden-Rötenberg\, 78733\, Deutschland
GEO:48.3003717;8.423787100000027
X-APPLE-STRUCTURED-LOCATION;VALUE=URI;X-ADDRESS=Zubermoosstr. 31\, 78733 Ai
 chhalden-Rötenberg\, 78733\, Deutschland;X-APPLE-RADIUS=100;X-TITLE=Backs
 tube in Aichhalden-Rötenberg:geo:48.3003717,8.423787100000027
END:VEVENT
BEGIN:VTIMEZONE
TZID:Europe/Berlin
X-LIC-LOCATION:Europe/Berlin
BEGIN:DAYLIGHT
DTSTART:20260329T030000
TZOFFSETFROM:+0100
TZOFFSETTO:+0200
TZNAME:CEST
END:DAYLIGHT
END:VTIMEZONE
END:VCALENDAR