BEGIN:VCALENDAR
VERSION:2.0
PRODID:-//wp-events-plugin.com//7.2.3.1//EN
TZID:Europe/Berlin
X-WR-TIMEZONE:Europe/Berlin
BEGIN:VEVENT
UID:631@backen-profis.de
DTSTART;TZID=Europe/Berlin:20260703T180000
DTEND;TZID=Europe/Berlin:20260703T210000
DTSTAMP:20260314T164310Z
URL:https://backen-profis.de/events/themen-wochen-leichte-sommer-gebaecke-
 ciabatta-kraeuter-ciabatta-foccacia-party-stangen/
SUMMARY:Themen-Wochen: leichte Sommer-Gebäcke: Ciabatta / Kräuter-Ciabatt
 a\, Foccacia\, Party-Stangen
DESCRIPTION:&nbsp\;\nitalienisch: Ciabatta\, Foccacia (Fladenbrot)\n&nbsp\;
 \n\nCiabatta: das lockere\, rustikale italienische Weißbrot\naus neutrale
 m Hefeteig mit Olivenöl und langer Teigruhe für einen besonderen Geschma
 ck.\nGerne lassen sich Kräuter\, Tomaten und Oliven mitverwenden und so e
 ntstehen zusätzliche Varianten!\n&nbsp\;\n\n\n\nFoccacia und Ciabatta\n\n
 \n&nbsp\;\n\nFoccacia: italienisches Fladenbrot mit mediteranen Gewürzen 
 für ein südländisches Aroma – ein besonderer Genuss!\n\n&nbsp\;\n\n&n
 bsp\;\nParty-Stangen aus Roggen-Dinkel-Brötchenteig\ndas Ideale Gebäck z
 ur Grillparty !\nKnusprige Roggen-Stangen aus lockeren Brötchenteig\, ide
 al als Beilage und zum belegen.\nMit ein paar Tricks ist es für jeden ein
 fach herzustellen.\n\n\n\nRoggen-Dinkel-Stangen
CATEGORIES:Themen Woche
LOCATION:Backstube in Aichhalden-Rötenberg\, Zubermoosstr. 31\, 78733 Aich
 halden-Rötenberg\, 78733\, Deutschland
GEO:48.3003717;8.423787100000027
X-APPLE-STRUCTURED-LOCATION;VALUE=URI;X-ADDRESS=Zubermoosstr. 31\, 78733 Ai
 chhalden-Rötenberg\, 78733\, Deutschland;X-APPLE-RADIUS=100;X-TITLE=Backs
 tube in Aichhalden-Rötenberg:geo:48.3003717,8.423787100000027
END:VEVENT
BEGIN:VTIMEZONE
TZID:Europe/Berlin
X-LIC-LOCATION:Europe/Berlin
BEGIN:DAYLIGHT
DTSTART:20260329T030000
TZOFFSETFROM:+0100
TZOFFSETTO:+0200
TZNAME:CEST
END:DAYLIGHT
END:VTIMEZONE
END:VCALENDAR